Workbook
Name tanszék: [3]x!$D$2:$D$8

Sheet 2B
A1: Mesterfokozatú tanári szakképzettség megszerzésére irányuló osztott képzés alapfokozat és szakképzettség birtokában (60 kredit) | O1: 2B
A3: KÉPZÉS kódja, neve: | B3: MTKBMAG_2B_N_2024 | C3: =VLOOKUP($B$3,Segédlap!A:B,2,0) -> magyar nyelv és irodalom szakos tanár (alapszakos diplomával)
A4: MÉRFÖLDKŐ (önálló csoportosító sor) KÓDJA | B4: TÁRGYCSOPORT KÓDJA | C4: TÁRGYKÓD | D4: MK/TCS/tárgy NEVE/CÍME | E4: TÁRGY TÍPUSA | F4: TÁRGY-KÖVETELMÉNY | G4: FELVÉTEL TÍPUSA | H4: ÓRASZÁM | J4: FÉLÉV ÉS KREDIT | L4: KREDIT-SZÁM | M4: Ajánlott félév | N4: TÁRGY(CSOPORT)-FELELŐS Neptun kódja | O4: TÁRGY(CSOPORT)-FELELŐS neve | P4: VÉGLEGES IDŐSZAK (TELJESÍTÉS) | Q4: VÉGLEGES IDŐSZAK (FELVÉTEL) | R4: ELŐZETES VIZSGAFELTÉTEL
H5: heti | I5: féléves | J5: 1. | K5: 2.
A6: MK-KOT | D6: Kötelező szakmai tárgyak | E6: Nincs megadva | F6: Nincs megadva | G6: Kötelező | L6: 10
B7: TCS-RK2BN-MAG-KOT | C7: RK2BN-MAG-KOT1 | D7: Műelemzések szeminárium 1. | E7: Szeminárium | F7: Gyakorlati jegy | G7: Kötelező | H7: 2 | J7: 2 | M7: 1 | N7: OAONGX | O7: Szabó Gábor
C8: RK2BN-MAG-KOT2 | D8: Műelemzések szeminárium 2. | E8: Szeminárium | F8: Gyakorlati jegy | G8: Kötelező | H8: 2 | J8: 2 | M8: 1 | N8: GPZTBK | O8: Gere Zsolt
C9: RK2BN-MAG-KOT3 | D9: Lexikológia, lexikográfia és frazeológia | E9: Szeminárium | F9: Gyakorlati jegy | G9: Kötelező | H9: 2 | J9: 3 | M9: 1 | N9: OUAWUI | O9: Forgács Tamás
C10: RK2BN-MAG-KOT4 | D10: A nyelvleírás fontosabb irányzatai az oktatás gyakorlatában | E10: Szeminárium | F10: Gyakorlati jegy | G10: Kötelező | H10: 2 | J10: 3 | M10: 1 | N10: GHO3PX | O10: Schirm Anita
A11: MK-SZM | D11: Szakmódszertan | E11: Nincs megadva | F11: Nincs megadva | G11: Kötelező | L11: 10
C12: RK2BN-MAG-SZM1 | D12: Az irodalomtanítás elméleti alapjai | E12: Szeminárium | F12: Gyakorlati jegy | G12: Kötelező | H12: 2 | J12: 2 | L12: 2 | M12: 1 | N12: WR1BAF | O12: Zsigriné dr. Sejtes Györgyi
C13: RK2BN-MAG-SZM2 | D13: Az anyanyelvtanítás elméleti alapjai | E13: Szeminárium | F13: Gyakorlati jegy | G13: Kötelező | H13: 2 | J13: 2 | L13: 2 | M13: 1 | N13: WR1BAF | O13: Zsigriné dr. Sejtes Györgyi
C14: RK2BN-MAG-SZM3 | D14: Az anyanyelvtanítás gyakorlata | E14: Szeminárium | F14: Gyakorlati jegy | G14: Kötelező | H14: 2 | J14: 2 | L14: 2 | M14: 1 | N14: WR1BAF | O14: Zsigriné dr. Sejtes Györgyi
C15: RK2BN-MAG-SZM4 | D15: Az irodalomtanítás gyakorlata | E15: Szeminárium | F15: Gyakorlati jegy | G15: Kötelező | H15: 2 | K15: 2 | L15: 2 | M15: 2 | N15: WR1BAF | O15: Zsigriné dr. Sejtes Györgyi
C16: RK2BN-MAG-SZM5 | D16: Tanítást kísérő szakmódszertani szeminárium | E16: Szeminárium | F16: Gyakorlati jegy | G16: Kötelező | H16: 2 | K16: 2 | L16: 2 | M16: 2 | N16: WR1BAF | O16: Zsigriné dr. Sejtes Györgyi
C17: RK2BN-MAG-SZM6
I18: Előírt kredit: | J18: 16 | K18: 4 | L18: 20
I19: Számolt kredit: | J19: =SUM(J6:J17) -> 16 | K19: =SUM(K6:K17) -> 4
A21: KÉPZÉS kódja, neve: | B21: MTKBMAG_2B_L_2024 | C21: =VLOOKUP($B$21,Segédlap!A:B,2,0) -> magyar nyelv és irodalom szakos tanár (alapszakos diplomával)
A22: MÉRFÖLDKŐ (önálló csoportosító sor) KÓDJA | B22: TÁRGYCSOPORT KÓDJA | C22: TÁRGYKÓD | D22: MK/TCS/tárgy NEVE/CÍME | E22: TÁRGY TÍPUSA | F22: TÁRGY-KÖVETELMÉNY | G22: FELVÉTEL TÍPUSA | H22: ÓRASZÁM | J22: FÉLÉV ÉS KREDIT | L22: KREDIT-SZÁM | M22: Ajánlott félév | N22: TÁRGY(CSOPORT)-FELELŐS Neptun kódja | O22: TÁRGY(CSOPORT)-FELELŐS neve | P22: VÉGLEGES IDŐSZAK (TELJESÍTÉS) | Q22: VÉGLEGES IDŐSZAK (FELVÉTEL) | R22: ELŐZETES VIZSGAFELTÉTEL
H23: heti | I23: féléves | J23: 1. | K23: 2.
A24: MK-KOT | D24: Kötelező szakmai tárgyak | E24: Nincs megadva | F24: Nincs megadva | G24: Kötelező | L24: 10
B25: TCS-RK2BL-MAG-KOT | E25: Nincs megadva | F25: Nincs megadva | G25: Kötelező
C26: RK2BL-MAG-KOT1 | D26: Műelemzések szeminárium 1. | E26: Szeminárium | F26: Gyakorlati jegy | G26: Kötelező | I26: 9 | J26: 2 | M26: 1 | N26: OAONGX | O26: Szabó Gábor
C27: RK2BL-MAG-KOT2 | D27: Műelemzések szeminárium 2. | E27: Szeminárium | F27: Gyakorlati jegy | G27: Kötelező | I27: 9 | J27: 2 | M27: 1 | N27: GPZTBK | O27: Gere Zsolt
C28: RK2BL-MAG-KOT3 | D28: Lexikológia, lexikográfia és frazeológia | E28: Szeminárium | F28: Gyakorlati jegy | G28: Kötelező | I28: 9 | J28: 3 | M28: 1 | N28: OUAWUI | O28: Forgács Tamás
C29: RK2BL-MAG-KOT4 | D29: A nyelvleírás fontosabb irányzatai az oktatás gyakorlatában | E29: Szeminárium | F29: Gyakorlati jegy | G29: Kötelező | I29: 9 | J29: 3 | M29: 1 | N29: GHO3PX | O29: Schirm Anita
A30: MK-SZM | D30: Szakmódszertan | E30: Nincs megadva | F30: Nincs megadva | G30: Kötelező | L30: 10
C31: RK2BL-MAG-SZM1 | D31: Az irodalomtanítás elméleti alapjai | E31: Szeminárium | F31: Gyakorlati jegy | G31: Kötelező | I31: 9 | J31: 2 | L31: 2 | M31: 1 | N31: WR1BAF | O31: Zsigriné dr. Sejtes Györgyi
C32: RK2BL-MAG-SZM2 | D32: Az anyanyelvtanítás elméleti alapjai | E32: Szeminárium | F32: Gyakorlati jegy | G32: Kötelező | I32: 9 | J32: 2 | L32: 2 | M32: 1 | N32: WR1BAF | O32: Zsigriné dr. Sejtes Györgyi
C33: RK2BL-MAG-SZM3 | D33: Az anyanyelvtanítás gyakorlata | E33: Szeminárium | F33: Gyakorlati jegy | G33: Kötelező | I33: 9 | J33: 2 | L33: 2 | M33: 1 | N33: WR1BAF | O33: Zsigriné dr. Sejtes Györgyi
C34: RK2BL-MAG-SZM4 | D34: Az irodalomtanítás gyakorlata | E34: Szeminárium | F34: Gyakorlati jegy | G34: Kötelező | I34: 9 | K34: 2 | L34: 2 | M34: 2 | N34: WR1BAF | O34: Zsigriné dr. Sejtes Györgyi
C35: RK2BL-MAG-SZM5 | D35: Tanítást kísérő szakmódszertani szeminárium | E35: Szeminárium | F35: Gyakorlati jegy | G35: Kötelező | I35: 9 | K35: 2 | L35: 2 | M35: 2 | N35: WR1BAF | O35: Zsigriné dr. Sejtes Györgyi
I37: Előírt kredit: | J37: 16 | K37: 4 | L37: 20
I38: Számolt kredit: | J38: =SUM(J24:J36) -> 16 | K38: =SUM(K24:K36) -> 4

Sheet 2D
A1: Nem tanári mesterszakot követő egyszakos tanári mesterképzés (2 félév, 60 kredit)
A5: KÉPZÉS kódja, neve: | B5: MTKBMAG_2D | C5: =VLOOKUP($B$5,[2]Segédlap!A:B,2,0) -> magyar nyelv és irodalom szakos tanár | H5: TAGOZAT: | I5: Mindkettőt megadom egy táblázatban
A6: Tanári KKK: | B6: https://uj.jogtar.hu/#doc/db/1/id/A1300008.EMM/ts/20211230/lr/chain4
A7: MÉRFÖLDKŐ (önálló csoportosító sor) KÓDJA | B7: TÁRGYCSOPORT KÓDJA | C7: TÁRGYKÓD | D7: MK/TCS/tárgy NEVE/CÍME | E7: TÁRGY TÍPUSA | F7: TÁRGY-KÖVETELMÉNY | G7: FELVÉTEL TÍPUSA | H7: ÓRASZÁM | J7: FÉLÉV ÉS KREDIT | L7: AJÁNLOTT FÉLÉV | M7: KREDIT-SZÁM | N7: TÁRGY(CSOPORT)-FELELŐS Neptun kódja | O7: TÁRGY(CSOPORT)-FELELŐS neve | P7: VÉGLEGES IDŐSZAK (TELJESÍTÉS) | Q7: VÉGLEGES IDŐSZAK (FELVÉTEL) | R7: ELŐZETES VIZSGAFELTÉTEL | S7: ÚJ | T7: Tartalmában nem változott, így összevonható az előző KKK szerinti alábbi tárggyal
H8: heti | I8: féléves | J8: 1. | K8: 2.
A9: MK-SZM | D9: Szakmódszertan | E9: nincs megadva | F9: nincs megadva | G9: kötelező | M9: 10 | S9: X
C10: RK2D-MAG-SZM1 | D10: A magyar nyelv és irodalom oktatásának elméleti alapjai | E10: szeminárium | F10: gyakorlati jegy | G10: kötelező | H10: 2 | I10: 9 | J10: 2 | L10: 1 | M10: 2 | N10: WR1BAF | O10: Zsigriné dr. Sejtes Györgyi | S10: X
C11: RK2D-MAG-SZM2 | D11: Az irodalomtanítás gyakorlata | E11: szeminárium | F11: gyakorlati jegy | G11: kötelező | H11: 2 | I11: 9 | J11: 2 | L11: 1 | M11: 2 | N11: WR1BAF | O11: Zsigriné dr. Sejtes Györgyi | S11: X
C12: RK2D-MAG-SZM3 | D12: Az anyanyelvtanítás gyakorlata | E12: szeminárium | F12: gyakorlati jegy | G12: kötelező | H12: 2 | I12: 9 | K12: 2 | L12: 2 | M12: 2 | N12: WR1BAF | O12: Zsigriné dr. Sejtes Györgyi | S12: X
C13: RK2D-MAG-SZM4 | D13: Tanítást kísérő szakmódszertani szeminárium | E13: szeminárium | F13: gyakorlati jegy | G13: kötelező | H13: 2 | I13: 9 | K13: 2 | L13: 2 | M13: 2
C14: RK2D-MAG-SZMSZV1 | D14: Magyar nyelv és irodalom tanítása a digitális kollaborációs térben | E14: szeminárium | F14: gyakorlati jegy | G14: kötelezően választható | H14: 2 | I14: 9 | J14: 2 | L14: 1 | M14: 2 | N14: WR1BAF | O14: Zsigriné dr. Sejtes Györgyi | S14: X
C15: RK2D-MAG-SZMSZV2 | D15: Szövegtan és tanulás | E15: szeminárium | F15: gyakorlati jegy | G15: kötelezően választható | H15: 2 | I15: 9 | J15: 2 | L15: 1 | M15: 2 | N15: WR1BAF | O15: Zsigriné dr. Sejtes Györgyi | S15: X
A16: MK-TGY | D16: Szakterületi tanítási gyakorlat | E16: nincs megadva | F16: nincs megadva | G16: kötelező | K16: 2 | L16: 2 | M16: 2 | S16: X
I18: Előírt kredit: | J18: 6 | K18: 6 | M18: 12
I19: Számolt kredit: | J19: =SUM(J10:J15) -> 8 | K19: =SUM(K10:K15) -> 4

Sheet 2M
A1: Mesterképzéssel párhuzamos tanárképzés
A5: KÉPZÉS kódja, neve: | B5: MTKBMAG_2M | C5: magyar nyelv és irodalom szakos tanár (mesterképzéssel párhuzamosan) | H5: TAGOZAT: | I5: Mindkettőt megadom egy táblázatban
A7: MÉRFÖLDKŐ (önálló csoportosító sor) KÓDJA | B7: TÁRGYCSOPORT KÓDJA | C7: TÁRGYKÓD | D7: MK/TCS/tárgy NEVE/CÍME | E7: TÁRGY TÍPUSA | F7: TÁRGY-KÖVETELMÉNY | G7: FELVÉTEL TÍPUSA | H7: ÓRASZÁM | J7: FÉLÉV ÉS KREDIT | M7: AJÁNLOTT FÉLÉV | N7: KREDIT-SZÁM | O7: TÁRGY(CSOPORT)-FELELŐS Neptun kódja | P7: TÁRGY(CSOPORT)-FELELŐS neve | Q7: VÉGLEGES IDŐSZAK (TELJESÍTÉS) | R7: VÉGLEGES IDŐSZAK (FELVÉTEL) | S7: ELŐZETES VIZSGAFELTÉTEL
H8: heti | I8: féléves | J8: 1. | K8: 2. | L8: 3.
A9: MK-SZM | D9: Szakmódszertan | E9: nincs megadva | F9: nincs megadva | G9: kötelező | N9: 10
C10: RK2M-MAG-SZM1 | D10: A magyar nyelv és irodalom oktatásának elméleti alapjai | E10: szeminárium | F10: gyakorlati jegy | G10: kötelező | H10: 2 | I10: 9 | J10: 2 | M10: 1 | N10: 2 | O10: WR1BAF | P10: Zsigriné dr. Sejtes Györgyi
C11: RK2M-MAG-SZM2 | D11: Az irodalomtanítás gyakorlata | E11: szeminárium | F11: gyakorlati jegy | G11: kötelező | H11: 2 | I11: 9 | J11: 2 | M11: 1 | N11: 2 | O11: WR1BAF | P11: Zsigriné dr. Sejtes Györgyi
C12: RK2M-MAG-SZM3 | D12: Az anyanyelvtanítás gyakorlata | E12: szeminárium | F12: gyakorlati jegy | G12: kötelező | H12: 2 | I12: 9 | K12: 2 | M12: 2 | N12: 2 | O12: WR1BAF | P12: Zsigriné dr. Sejtes Györgyi
C13: RK2M-MAG-SZM4 | D13: Tanítást kísérő szakmódszertani szeminárium | E13: szeminárium | F13: gyakorlati jegy | G13: kötelező | H13: 2 | I13: 9 | L13: 2 | M13: 2 | N13: 2
C14: RK2M-MAG-SZMSZV1 | D14: Magyar nyelv és irodalom tanítása a digitális kollaborációs térben | E14: szeminárium | F14: gyakorlati jegy | G14: kötelezően választható | H14: 2 | I14: 9 | J14: 2 | M14: 1 | N14: 2 | O14: WR1BAF | P14: Zsigriné dr. Sejtes Györgyi
C15: RK2M-MAG-SZMSZV2 | D15: Szövegtan és tanulás | E15: szeminárium | F15: gyakorlati jegy | G15: kötelezően választható | H15: 2 | I15: 9 | J15: 2 | M15: 1 | N15: 2 | O15: WR1BAF | P15: Zsigriné dr. Sejtes Györgyi

Sheet 2S
A1: Szaktanári mesterképzés (2 félév, 60 kredit) – Ped. 1. besorolással
A5: KÉPZÉS kódja, neve: | B5: MTSSMAG_2S | C5: =VLOOKUP($B$5,[2]Segédlap!A:B,2,0) -> magyar nyelv és irodalom szakos szaktanár | H5: TAGOZAT: | I5: Mindkettőt megadom egy táblázatban
A7: KKK 8. szerinti ismeretkör: kredittartomány | B7: MÉRFÖLDKŐ (önálló csoportosító sor) KÓDJA | C7: TÁRGYCSOPORT KÓDJA | D7: TÁRGYKÓD | E7: MK/TCS/tárgy NEVE/CÍME | F7: TÁRGY TÍPUSA | G7: TÁRGY-KÖVETELMÉNY | H7: FELVÉTEL TÍPUSA | I7: ÓRASZÁM | K7: FÉLÉV ÉS KREDIT | M7: AJÁNLOTT FÉLÉV | N7: KREDIT-SZÁM | O7: TÁRGY(CSOPORT)-FELELŐS Neptun kódja | P7: TÁRGY(CSOPORT)-FELELŐS neve | Q7: VÉGLEGES IDŐSZAK (TELJESÍTÉS) | R7: VÉGLEGES IDŐSZAK (FELVÉTEL) | S7: ELŐZETES VIZSGAFELTÉTEL
I8: heti | J8: féléves | K8: 1. | L8: 2.
B9: MK-KOT | E9: Kötelező szakmai tárgyak | F9: nincs megadva | G9: nincs megadva | H9: kötelező | N9: 45
A10: Nyelvtudományi ismeretek (21 kredit) | D10: RK2S-MAG-KOT01 | E10: Grammatikai ismeretek: alaktani és mondattani elemzések | F10: szeminárium | G10: gyakorlati jegy | H10: kötelező | I10: 2 | J10: 9 | K10: 3 | M10: 1 | N10: 3 | O10: EMQWVX | P10: Németh Miklós
D11: RK2S-MAG-KOT02 | E11: Szöveg és stílus előadás | F11: előadás | G11: kollokvium | H11: kötelező | I11: 2 | J11: 9 | K11: 3 | M11: 1 | N11: 3 | O11: GHO3PX | P11: Schirm Anita
D12: RK2S-MAG-KOT03 | E12: Kommunikáció és retorika előadás | F12: előadás | G12: kollokvium | H12: kötelező | I12: 2 | J12: 9 | K12: 3 | M12: 1 | N12: 3 | O12: GHO3PX | P12: Schirm Anita
D13: RK2S-MAG-KOT04 | E13: A pragmatikai, a jelentésbeli és a nyelvtani szintek, diskurzuselemzés szeminárium | F13: szeminárium | G13: gyakorlati jegy | H13: kötelező | I13: 2 | J13: 9 | L13: 3 | M13: 2 | N13: 3 | O13: BQEUFH | P13: Németh T. Enikő
D14: RK2S-MAG-KOT05 | E14: A nyelvészet külső kapcsolatai és alkalmazásai szeminárium (pszicholingvisztika, anyanyelv-elsajátítás, számítógépes nyszet, lexikográfia stb.) | F14: szeminárium | G14: gyakorlati jegy | H14: kötelező | I14: 2 | J14: 9 | L14: 3 | M14: 2 | N14: 3 | O14: EMQWVX | P14: Németh Miklós
D15: RK2S-MAG-KOT06 | E15: Nyelvtörténet (legfontosabb nyelvemlékeink komplex elemzése, a szó-, a névkincs és a frazeológia története stb.) szeminárium | F15: szeminárium | G15: gyakorlati jegy | H15: kötelező | I15: 2 | J15: 9 | L15: 3 | M15: 2 | N15: 3 | O15: OUAWUI | P15: Forgács Tamás
D16: RK2S-MAG-KOT07 | E16: Nyelv és társadalom előadás | F16: előadás | G16: kollokvium | H16: kötelező | I16: 2 | J16: 9 | L16: 3 | M16: 2 | N16: 3 | O16: EMQWVX | P16: Németh Miklós
A17: Irodalomtudományi ismeretek (24 kredit) | D17: RK2S-MAG-KOT08 | E17: Műfaj- és eszmetörténet a régi magyar irodalomban | F17: előadás | G17: kollokvium | H17: kötelező | I17: 2 | J17: 9 | K17: 3 | M17: 1 | N17: 3 | O17: TW358K | P17: Molnár Dávid
D18: RK2S-MAG-KOT09 | E18: Műfaj- és eszmetörténet a klasszikus magyar irodalomban | F18: előadás | G18: kollokvium | H18: kötelező | I18: 2 | J18: 9 | K18: 3 | M18: 1 | N18: 3 | O18: GPZTBK | P18: Gere Zsolt
D19: RK2S-MAG-KOT10 | E19: Műfaj- és eszmetörténet a modern magyar és a határon túli irodalomban | F19: előadás | G19: kollokvium | H19: kötelező | I19: 2 | J19: 9 | L19: 3 | M19: 2 | N19: 3 | O19: FODBN0 | P19: Virág Zoltán
D20: RK2S-MAG-KOT11 | E20: Világirodalom és komparatisztika | F20: előadás | G20: kollokvium | H20: kötelező | I20: 2 | J20: 9 | K20: 3 | M20: 1 | N20: 3 | O20: BGWKTE | P20: Kelemen Zoltán
D21: RK2S-MAG-KOT12 | E21: Az irodalom társadalomtörténete (intézménytörténet, kapcsolattörténet, társművészetek) | F21: előadás | G21: kollokvium | H21: kötelező | I21: 2 | J21: 9 | L21: 3 | M21: 2 | N21: 3 | O21: OAONGX | P21: Szabó Gábor
D22: RK2S-MAG-KOT13 | E22: A műelemzés módszertana | F22: szeminárium | G22: gyakorlati jegy | H22: kötelező | I22: 2 | J22: 9 | K22: 3 | M22: 1 | N22: 3 | O22: GPZTBK | P22: Gere Zsolt
D23: RK2S-MAG-KOT14 | E23: Műelemzési gyakorlatok | F23: szeminárium | G23: gyakorlati jegy | H23: kötelező | I23: 2 | J23: 9 | L23: 3 | M23: 2 | N23: 3 | O23: GPZTBK | P23: Gere Zsolt
D24: RK2S-MAG-KOT15 | E24: Szakszövegolvasás | F24: szeminárium | G24: gyakorlati jegy | H24: kötelezően választható | I24: 2 | J24: 9 | K24: 3 | M24: 1 | N24: 3 | O24: TW358K | P24: Molnár Dávid
D25: RK2S-MAG-KOT16 | E25: Műértelmezés | F25: szeminárium | G25: gyakorlati jegy | H25: kötelezően választható | I25: 2 | J25: 9 | K25: 3 | M25: 1 | N25: 3 | O25: TW358K | P25: Molnár Dávid
A26: Középiskolai és felnőttkori tantárgy-pedagógiához, illetve az emelt szintű érettségihez kapcsolódó ismeretek és kompetenciák, minimum 10 kredit. | B26: MK-SZM | E26: Szakmódszertan | F26: nincs megadva | G26: nincs megadva | H26: kötelező | N26: 8
D27: RK2S-MAG-SZM1 | E27: Az irodalomtanítás elméleti alapjai a középiskolában | F27: szeminárium | G27: gyakorlati jegy | H27: kötelező | I27: 2 | J27: 9 | K27: 2 | M27: 1 | N27: 2 | O27: WR1BAF | P27: Zsigriné dr. Sejtes Györgyi
D28: RK2S-MAG-SZM2 | E28: Az anyanyelvtanítás elméleti alapjai a középiskolában | F28: szeminárium | G28: gyakorlati jegy | H28: kötelező | I28: 2 | J28: 9 | K28: 2 | M28: 1 | N28: 2 | O28: WR1BAF | P28: Zsigriné dr. Sejtes Györgyi
D29: RK2S-MAG-SZM3 | E29: Az irodalomtanítás gyakorlata a középiskolában | F29: szeminárium | G29: gyakorlati jegy | H29: kötelező | I29: 2 | J29: 9 | L29: 2 | M29: 2 | N29: 2 | O29: WR1BAF | P29: Zsigriné dr. Sejtes Györgyi
D30: RK2S-MAG-SZM4 | E30: Az anyanyelvtanítás gyakorlata a középiskolában | F30: szeminárium | G30: gyakorlati jegy | H30: kötelező | I30: 2 | J30: 9 | L30: 2 | M30: 2 | N30: 2 | O30: WR1BAF | P30: Zsigriné dr. Sejtes Györgyi
A31: Középiskolai és felnőttkori tantárgy-pedagógiához, illetve az emelt szintű érettségihez kapcsolódó ismeretek és kompetenciák, minimum 10 kredit. | B31: MK-E | E31: Emelt szintű érettségi követelményeinek ismerete | F31: nincs megadva | G31: nincs megadva | H31: kötelező | N31: 4
D32: RK2S-MAG-E1 | E32: Emelt szintű érettségi követelményeinek ismerete 1. | F32: szeminárium | G32: gyakorlati jegy | H32: kötelező | I32: 2 | J32: 9 | L32: 2 | M32: 2 | N32: 2
D33: RK2S-MAG-E2 | E33: Emelt szintű érettségi követelményeinek ismerete 2. | F33: szeminárium | G33: gyakorlati jegy | H33: kötelező | I33: 2 | J33: 9 | L33: 2 | M33: 2 | N33: 2
B34: MK-SZV | E34: Szabadon választható tárgyak* | F34: nincs megadva | G34: nincs megadva | H34: kötelező | N34: 3
D35: RK2S-MAG-SZV01 | E35: Kulturális nyelvészet | F35: szeminárium | G35: gyakorlati jegy | H35: szabadon választható | I35: 2 | J35: 9 | K35: 3 | M35: 1 | N35: 3 | O35: PMYQE3 | P35: Sipőcz Katalin
D36: RK2S-MAG-SZV02 | E36: Diskurzuselemzés | F36: előadás | G36: kollokvium | H36: szabadon választható | I36: 2 | J36: 9 | K36: 3 | M36: 1 | N36: 3 | O36: BQEUFH | P36: Németh T. Enikő
D37: RK2S-MAG-SZV03 | E37: Műfajok a magyar irodalomban | F37: szeminárium | G37: gyakorlati jegy | H37: szabadon választható | I37: 2 | J37: 9 | K37: 3 | M37: 1 | N37: 3 | O37: TW358K | P37: Molnár Dávid
J39: Előírt kredit: | K39: 30 | L39: 30 | N39: 60
J40: Számolt kredit: | K40: =SUM(K9:K38) -> 40 | L40: =SUM(L9:L38) -> 29

Sheet 3T
A1: Tanári szakképzettség birtokában újabb (más szakos) tanári oklevelet adó tanárképzés (90 kredit) | P1: 3T
A3: KÉPZÉS kódja, neve: | B3: MTKBMAG_3T_N_2024 | C3: =VLOOKUP($B$3,Segédlap!A:B,2,0) -> magyar nyelv és irodalom szakos tanár (más tanári)
A4: MÉRFÖLDKŐ (önálló csoportosító sor) KÓDJA | B4: TÁRGYCSOPORT KÓDJA | C4: TÁRGYKÓD | D4: MK/TCS/tárgy NEVE/CÍME | E4: TÁRGY TÍPUSA | F4: TÁRGY-KÖVETELMÉNY | G4: FELVÉTEL TÍPUSA | H4: ÓRASZÁM | J4: FÉLÉV ÉS KREDIT | M4: KREDIT-SZÁM | N4: Ajánlott félév | O4: TÁRGY(CSOPORT)-FELELŐS Neptun kódja | P4: TÁRGY(CSOPORT)-FELELŐS neve | Q4: VÉGLEGES IDŐSZAK (TELJESÍTÉS) | R4: VÉGLEGES IDŐSZAK (FELVÉTEL) | S4: ELŐZETES VIZSGAFELTÉTEL
H5: heti | I5: féléves | J5: 1. | K5: 2. | L5: 3.
A6: MK-KOT | D6: Kötelező szakmai tárgyak | E6: Nincs megadva | F6: Nincs megadva | G6: Kötelező | M6: 76
B7: TCS-RK3TN-MAG-KOT | E7: Nincs megadva | F7: Nincs megadva | G7: Kötelező
A8: Nyelvtudományi alapozó tárgyak | C8: RK3TN-MAG-KOT1 | D8: Bevezetés a nyelvtudományba | E8: Előadás | F8: Kollokvium | G8: Kötelező | H8: 2 | J8: 3 | M8: 3 | N8: 1 | O8: BQEUFH | P8: Németh T. Enikő
C9: RK3TN-MAG-KOT2 | D9: Nyelvtudományi proszeminárium | E9: Szeminárium | F9: Gyakorlati jegy | G9: Kötelező | H9: 2 | J9: 2 | M9: 2 | N9: 1 | O9: WR1BAF | P9: Sinkovics Balázs
A10: Nyelvtudományi ismeretek | C10: RK3TN-MAG-KOT3 | D10: Leíró magyar hangtan szeminárium | E10: Szeminárium | F10: Gyakorlati jegy | G10: Kötelező | H10: 2 | J10: 2 | M10: 2 | N10: 1 | O10: WR1BAF | P10: Sinkovics Balázs
C11: RK3TN-MAG-KOT4 | D11: Szófajtan és alaktan előadás | E11: Előadás | F11: Kollokvium | G11: Kötelező | H11: 2 | K11: 2 | M11: 2 | N11: 2 | O11: FZ2JFS | P11: Berente Anikó
C12: RK3TN-MAG-KOT5 | D12: Szófajtan és alaktan szeminárium | E12: Szeminárium | F12: Gyakorlati jegy | G12: Kötelező | H12: 2 | K12: 2 | M12: 2 | N12: 2 | O12: FZ2JFS | P12: Berente Anikó
C13: RK3TN-MAG-KOT6 | D13: Mondattan előadás | E13: Előadás | F13: Kollokvium | G13: Kötelező | H13: 2 | J13: 2 | M13: 2 | N13: 1 | O13: FZ2JFS | P13: Berente Anikó
C14: RK3TN-MAG-KOT7 | D14: Mondattan szeminárium | E14: Szeminárium | F14: Gyakorlati jegy | G14: Kötelező | H14: 2 | J14: 3 | M14: 3 | N14: 1 | O14: FZ2JFS | P14: Berente Anikó
C15: RK3TN-MAG-KOT8 | D15: Stílus és jelentés | E15: Előadás | F15: Kollokvium | G15: Kötelező | H15: 2 | K15: 2 | M15: 2 | N15: 2 | O15: GHO3PX | P15: Schirm Anita
C16: RK3TN-MAG-KOT9 | D16: Szövegtani ismeretek | E16: Előadás | F16: Kollokvium | G16: Kötelező | H16: 2 | K16: 2 | M16: 2 | N16: 2 | O16: WR1BAF | P16: Zsigriné dr. Sejtes Györgyi
C17: RK3TN-MAG-KOT10 | D17: Kommunikáció szóban és írásban | E17: Szeminárium | F17: Gyakorlati jegy | G17: Kötelező | H17: 2 | K17: 2 | M17: 2 | N17: 2 | O17: WR1BAF | P17: Sinkovics Balázs
C18: RK3TN-MAG-KOT11 | D18: Nyelv és társadalom | E18: Előadás | F18: Kollokvium | G18: Kötelező | H18: 2 | K18: 3 | M18: 3 | N18: 2 | O18: EMQWVX | P18: Németh Miklós
C19: RK3TN-MAG-KOT12 | D19: Nyelvtörténet előadás | E19: Előadás | F19: Kollokvium | G19: Kötelező | H19: 2 | L19: 3 | M19: 3 | N19: 3 | O19: OUAWUI | P19: Forgács Tamás
C20: RK3TN-MAG-KOT13 | D20: A magyar nyelv történeti változásai az egyes szinteken | E20: Szeminárium | F20: Gyakorlati jegy | G20: Kötelező | H20: 2 | L20: 3 | M20: 3 | N20: 3 | O20: OUAWUI | P20: Forgács Tamás
C21: RK3TN-MAG-KOT14 | D21: A nyelvleírás fontosabb irányzatai az oktatás gyakorlatában | E21: Szeminárium | F21: Gyakorlati jegy | G21: Kötelező | H21: 2 | L21: 2 | M21: 2 | N21: 3 | O21: GHO3PX | P21: Schirm Anita
C22: RK3TN-MAG-KOT15 | D22: Lexikológia, lexikográfia és frazeológia | E22: Szeminárium | F22: Gyakorlati jegy | G22: Kötelező | H22: 2 | L22: 2 | M22: 2 | N22: 3 | O22: OUAWUI | P22: Forgács Tamás
A23: Irodalomtudományi alapozó ismeretek | C23: RK3TN-MAG-KOT16 | D23: Az irodalomtudomány alapjai | E23: Előadás | F23: Kollokvium | G23: Kötelező | H23: 2 | J23: 3 | M23: 3 | N23: 1 | O23: KFAICJ | P23: Hansági Ágnes
C24: RK3TN-MAG-KOT17 | D24: Az irodalomtudományi ismeretszerzés alapjai (proszeminárium) | E24: Szeminárium | F24: Gyakorlati jegy | G24: Kötelező | H24: 2 | J24: 2 | M24: 2 | N24: 1 | O24: SEQOIT | P24: Latzkovits Miklós
A25: Irodalomtudományi ismeretek | C25: RK3TN-MAG-KOT18 | D25: Bevezetés a műelemzésbe | E25: Szeminárium | F25: Gyakorlati jegy | G25: Kötelező | H25: 2 | K25: 2 | M25: 2 | N25: 2 | O25: KFAICJ | P25: Hansági Ágnes
C26: RK3TN-MAG-KOT19 | D26: Világirodalom előadás 1. | E26: Előadás | F26: Kollokvium | G26: Kötelező | H26: 2 | J26: 3 | M26: 3 | N26: 1 | O26: BGWKTE | P26: Kelemen Zoltán
C27: RK3TN-MAG-KOT20 | D27: Világirodalom előadás 2. | E27: Előadás | F27: Kollokvium | G27: Kötelező | H27: 2 | K27: 3 | M27: 3 | N27: 2 | O27: BGWKTE | P27: Kelemen Zoltán
C28: RK3TN-MAG-KOT21 | D28: Világirodalom szeminárium 1. | E28: Szeminárium | F28: Gyakorlati jegy | G28: Kötelező | H28: 2 | J28: 2 | M28: 2 | N28: 1 | O28: BGWKTE | P28: Kelemen Zoltán
C29: RK3TN-MAG-KOT22 | D29: Világirodalom szeminárium 2. | E29: Szeminárium | F29: Gyakorlati jegy | G29: Kötelező | H29: 2 | L29: 2 | M29: 2 | N29: 3 | O29: BGWKTE | P29: Kelemen Zoltán
C30: RK3TN-MAG-KOT23 | D30: Régi magyar irodalom előadás | E30: Előadás | F30: Kollokvium | G30: Kötelező | H30: 2 | J30: 3 | M30: 3 | N30: 1 | O30: SEQOIT | P30: Latzkovits Miklós
C31: RK3TN-MAG-KOT24 | D31: Régi magyar irodalom szeminárium | E31: Szeminárium | F31: Gyakorlati jegy | G31: Kötelező | H31: 2 | K31: 2 | M31: 2 | N31: 2 | O31: SEQOIT | P31: Latzkovits Miklós
C32: RK3TN-MAG-KOT25 | D32: Klasszikus magyar irodalom előadás | E32: Előadás | F32: Kollokvium | G32: Kötelező | H32: 2 | J32: 3 | M32: 3 | N32: 1 | O32: J4XSEZ | P32: Hász-Fehér Katalin
C33: RK3TN-MAG-KOT26 | D33: Klasszikus magyar irodalom szeminárium | E33: Szeminárium | F33: Gyakorlati jegy | G33: Kötelező | H33: 2 | K33: 2 | M33: 2 | N33: 2 | O33: KFAICJ | P33: Hansági Ágnes
C34: RK3TN-MAG-KOT27 | D34: Modern magyar irodalom előadás | E34: Előadás | F34: Kollokvium | G34: Kötelező | H34: 2 | L34: 3 | M34: 3 | N34: 3 | O34: SPNCNW | P34: Szilágyi Zsófia
C35: RK3TN-MAG-KOT28 | D35: Modern magyar irodalom szeminárium | E35: Szeminárium | F35: Gyakorlati jegy | G35: Kötelező | H35: 2 | L35: 2 | M35: 2 | N35: 3 | O35: SPNCNW | P35: Szilágyi Zsófia
C36: RK3TN-MAG-KOT29 | D36: Kortárs magyar irodalom szeminárium | E36: Szeminárium | F36: Gyakorlati jegy | G36: Kötelező | H36: 2 | L36: 3 | M36: 3 | N36: 3 | O36: FODBN0 | P36: Virág Zoltán
C37: RK3TN-MAG-KOT30 | D37: Műelemzések szeminárium 1. | E37: Szeminárium | F37: Gyakorlati jegy | G37: Kötelező | H37: 2 | K37: 2 | M37: 2 | N37: 2 | O37: RVJ3CT | P37: Tóth Ákos
C38: RK3TN-MAG-KOT31 | D38: Műelemzések szeminárium 2. | E38: Szeminárium | F38: Gyakorlati jegy | G38: Kötelező | H38: 2 | L38: 2 | M38: 2 | N38: 3 | O38: OAONGX | P38: Szabó Gábor
C39: RK3TN-MAG-KOT32 | D39: Gyermek és ifjúsági irodalom szeminárium | E39: Szeminárium | F39: Gyakorlati jegy | G39: Kötelező | H39: 2 | L39: 2 | M39: 2 | N39: 3 | O39: KFAICJ | P39: Hansági Ágnes
A40: MK-SZM | D40: Szakmódszertan | E40: Nincs megadva | F40: Nincs megadva | G40: Kötelező | M40: 6
C41: RK3TN-MAG-SZM1 | D41: A magyar nyelv és irodalom oktatásának elméleti alapjai | E41: Előadás | F41: Kollokvium | G41: Kötelező | H41: 2 | J41: 2 | M41: 2 | N41: 1 | O41: WR1BAF | P41: Zsigriné dr. Sejtes Györgyi
...

Sheet 3P
A1: Pedagógus szakképzettség birtokában újabb (más szakos) tanári oklevelet adó tanárképzés (90 kredit) | P1: 3P
A3: KÉPZÉS kódja, neve: | B3: MTKBMAG_3P_N_2024 | C3: =VLOOKUP($B$3,Segédlap!A:B,2,0) -> magyar nyelv és irodalom szakos tanár (tanítóknak)
A4: MÉRFÖLDKŐ (önálló csoportosító sor) KÓDJA | B4: TÁRGYCSOPORT KÓDJA | C4: TÁRGYKÓD | D4: MK/TCS/tárgy NEVE/CÍME | E4: TÁRGY TÍPUSA | F4: TÁRGY-KÖVETELMÉNY | G4: FELVÉTEL TÍPUSA | H4: ÓRASZÁM | J4: FÉLÉV ÉS KREDIT | M4: KREDIT-SZÁM | N4: Ajánlott félév | O4: TÁRGY(CSOPORT)-FELELŐS Neptun kódja | P4: TÁRGY(CSOPORT)-FELELŐS neve | Q4: VÉGLEGES IDŐSZAK (TELJESÍTÉS) | R4: VÉGLEGES IDŐSZAK (FELVÉTEL) | S4: ELŐZETES VIZSGAFELTÉTEL
H5: heti | I5: féléves | J5: 1. | K5: 2. | L5: 3.
A6: MK-KOT | D6: Kötelező szakmai tárgyak | E6: Nincs megadva | F6: Nincs megadva | G6: Kötelező | M6: 76
B7: TCS-RK3PN-MAG-KOT
A8: Nyelvtudományi alapozó tárgyak | C8: RK3PN-MAG-KOT1 | D8: Bevezetés a nyelvtudományba | E8: Előadás | F8: Kollokvium | G8: Kötelező | H8: 2 | J8: 3 | M8: 3 | N8: 1 | O8: BQEUFH | P8: Németh T. Enikő
C9: RK3PN-MAG-KOT2 | D9: Nyelvtudományi proszeminárium | E9: Szeminárium | F9: Gyakorlati jegy | G9: Kötelező | H9: 2 | J9: 2 | M9: 2 | N9: 1 | O9: WR1BAF | P9: Sinkovics Balázs
A10: Nyelvtudományi ismeretek | C10: RK3PN-MAG-KOT3 | D10: Leíró magyar hangtan szeminárium | E10: Szeminárium | F10: Gyakorlati jegy | G10: Kötelező | H10: 2 | J10: 2 | M10: 2 | N10: 1 | O10: WR1BAF | P10: Sinkovics Balázs
C11: RK3PN-MAG-KOT4 | D11: Szófajtan és alaktan előadás | E11: Előadás | F11: Kollokvium | G11: Kötelező | H11: 2 | K11: 2 | M11: 2 | N11: 2 | O11: FZ2JFS | P11: Berente Anikó
C12: RK3PN-MAG-KOT5 | D12: Szófajtan és alaktan szeminárium | E12: Szeminárium | F12: Gyakorlati jegy | G12: Kötelező | H12: 2 | K12: 2 | M12: 2 | N12: 2 | O12: FZ2JFS | P12: Berente Anikó
C13: RK3PN-MAG-KOT6 | D13: Mondattan előadás | E13: Előadás | F13: Kollokvium | G13: Kötelező | H13: 2 | J13: 2 | M13: 2 | N13: 1 | O13: FZ2JFS | P13: Berente Anikó
C14: RK3PN-MAG-KOT7 | D14: Mondattan szeminárium | E14: Szeminárium | F14: Gyakorlati jegy | G14: Kötelező | H14: 2 | J14: 3 | M14: 3 | N14: 1 | O14: FZ2JFS | P14: Berente Anikó
C15: RK3PN-MAG-KOT8 | D15: Stílus és jelentés | E15: Előadás | F15: Kollokvium | G15: Kötelező | H15: 2 | K15: 2 | M15: 2 | N15: 2 | O15: GHO3PX | P15: Schirm Anita
C16: RK3PN-MAG-KOT9 | D16: Szövegtani ismeretek | E16: Előadás | F16: Kollokvium | G16: Kötelező | H16: 2 | K16: 2 | M16: 2 | N16: 2 | O16: WR1BAF | P16: Zsigriné dr. Sejtes Györgyi
C17: RK3PN-MAG-KOT10 | D17: Kommunikáció szóban és írásban | E17: Szeminárium | F17: Gyakorlati jegy | G17: Kötelező | H17: 2 | K17: 2 | M17: 2 | N17: 2 | O17: WR1BAF | P17: Sinkovics Balázs
C18: RK3PN-MAG-KOT11 | D18: Nyelv és társadalom | E18: Előadás | F18: Kollokvium | G18: Kötelező | H18: 2 | K18: 3 | M18: 3 | N18: 2 | O18: EMQWVX | P18: Németh Miklós
C19: RK3PN-MAG-KOT12 | D19: Nyelvtörténet előadás | E19: Előadás | F19: Kollokvium | G19: Kötelező | H19: 2 | L19: 3 | M19: 3 | N19: 3 | O19: OUAWUI | P19: Forgács Tamás
C20: RK3PN-MAG-KOT13 | D20: A magyar nyelv történeti változásai az egyes szinteken | E20: Szeminárium | F20: Gyakorlati jegy | G20: Kötelező | H20: 2 | L20: 3 | M20: 3 | N20: 3 | O20: OUAWUI | P20: Forgács Tamás
C21: RK3PN-MAG-KOT14 | D21: A nyelvleírás fontosabb irányzatai az oktatás gyakorlatában | E21: Szeminárium | F21: Gyakorlati jegy | G21: Kötelező | H21: 2 | L21: 2 | M21: 2 | N21: 3 | O21: GHO3PX | P21: Schirm Anita
C22: RK3PN-MAG-KOT15 | D22: Lexikológia, lexikográfia és frazeológia | E22: Szeminárium | F22: Gyakorlati jegy | G22: Kötelező | H22: 2 | L22: 2 | M22: 2 | N22: 3 | O22: OUAWUI | P22: Forgács Tamás
A23: Irodalomtudományi alapozó ismeretek | C23: RK3PN-MAG-KOT16 | D23: Az irodalomtudomány alapjai | E23: Előadás | F23: Kollokvium | G23: Kötelező | H23: 2 | J23: 3 | M23: 3 | N23: 1 | O23: KFAICJ | P23: Hansági Ágnes
C24: RK3PN-MAG-KOT17 | D24: Az irodalomtudományi ismeretszerzés alapjai (proszeminárium) | E24: Szeminárium | F24: Gyakorlati jegy | G24: Kötelező | H24: 2 | J24: 2 | M24: 2 | N24: 1 | O24: SEQOIT | P24: Latzkovits Miklós
A25: Irodalomtudományi ismeretek | C25: RK3PN-MAG-KOT18 | D25: Bevezetés a műelemzésbe | E25: Szeminárium | F25: Gyakorlati jegy | G25: Kötelező | H25: 2 | K25: 2 | M25: 2 | N25: 2 | O25: KFAICJ | P25: Hansági Ágnes
C26: RK3PN-MAG-KOT19 | D26: Világirodalom előadás 1. | E26: Előadás | F26: Kollokvium | G26: Kötelező | H26: 2 | J26: 3 | M26: 3 | N26: 1 | O26: BGWKTE | P26: Kelemen Zoltán
C27: RK3PN-MAG-KOT20 | D27: Világirodalom előadás 2. | E27: Előadás | F27: Kollokvium | G27: Kötelező | H27: 2 | K27: 3 | M27: 3 | N27: 2 | O27: BGWKTE | P27: Kelemen Zoltán
C28: RK3PN-MAG-KOT21 | D28: Világirodalom szeminárium 1. | E28: Szeminárium | F28: Gyakorlati jegy | G28: Kötelező | H28: 2 | J28: 2 | M28: 2 | N28: 1 | O28: BGWKTE | P28: Kelemen Zoltán
C29: RK3PN-MAG-KOT22 | D29: Világirodalom szeminárium 2. | E29: Szeminárium | F29: Gyakorlati jegy | G29: Kötelező | H29: 2 | L29: 2 | M29: 2 | N29: 3 | O29: BGWKTE | P29: Kelemen Zoltán
C30: RK3PN-MAG-KOT23 | D30: Régi magyar irodalom előadás | E30: Előadás | F30: Kollokvium | G30: Kötelező | H30: 2 | J30: 3 | M30: 3 | N30: 1 | O30: SEQOIT | P30: Latzkovits Miklós
C31: RK3PN-MAG-KOT24 | D31: Régi magyar irodalom szeminárium | E31: Szeminárium | F31: Gyakorlati jegy | G31: Kötelező | H31: 2 | K31: 2 | M31: 2 | N31: 2 | O31: SEQOIT | P31: Latzkovits Miklós
C32: RK3PN-MAG-KOT25 | D32: Klasszikus magyar irodalom előadás | E32: Előadás | F32: Kollokvium | G32: Kötelező | H32: 2 | J32: 3 | M32: 3 | N32: 1 | O32: J4XSEZ | P32: Hász-Fehér Katalin
C33: RK3PN-MAG-KOT26 | D33: Klasszikus magyar irodalom szeminárium | E33: Szeminárium | F33: Gyakorlati jegy | G33: Kötelező | H33: 2 | K33: 2 | M33: 2 | N33: 2 | O33: KFAICJ | P33: Hansági Ágnes
C34: RK3PN-MAG-KOT27 | D34: Modern magyar irodalom előadás | E34: Előadás | F34: Kollokvium | G34: Kötelező | H34: 2 | L34: 3 | M34: 3 | N34: 3 | O34: SPNCNW | P34: Szilágyi Zsófia
C35: RK3PN-MAG-KOT28 | D35: Modern magyar irodalom szeminárium | E35: Szeminárium | F35: Gyakorlati jegy | G35: Kötelező | H35: 2 | L35: 2 | M35: 2 | N35: 3 | O35: SPNCNW | P35: Szilágyi Zsófia
C36: RK3PN-MAG-KOT29 | D36: Kortárs magyar irodalom szeminárium | E36: Szeminárium | F36: Gyakorlati jegy | G36: Kötelező | H36: 2 | L36: 3 | M36: 3 | N36: 3 | O36: FODBN0 | P36: Virág Zoltán
C37: RK3PN-MAG-KOT30 | D37: Műelemzések szeminárium 1. | E37: Szeminárium | F37: Gyakorlati jegy | G37: Kötelező | H37: 2 | K37: 2 | M37: 2 | N37: 2 | O37: RVJ3CT | P37: Tóth Ákos
C38: RK3PN-MAG-KOT31 | D38: Műelemzések szeminárium 2. | E38: Szeminárium | F38: Gyakorlati jegy | G38: Kötelező | H38: 2 | L38: 2 | M38: 2 | N38: 3 | O38: OAONGX | P38: Szabó Gábor
C39: RK3PN-MAG-KOT32 | D39: Gyermek és ifjúsági irodalom szeminárium | E39: Szeminárium | F39: Gyakorlati jegy | G39: Kötelező | H39: 2 | L39: 2 | M39: 2 | N39: 3 | O39: KFAICJ | P39: Hansági Ágnes
A40: MK-SZM | D40: Szakmódszertan | E40: Nincs megadva | F40: Nincs megadva | G40: Kötelező | M40: 6
C41: RK3PN-MAG-SZM1 | D41: A magyar nyelv és irodalom oktatásának elméleti alapjai | E41: Előadás | F41: Kollokvium | G41: Kötelező | H41: 2 | J41: 2 | M41: 2 | N41: 1 | O41: WR1BAF | P41: Zsigriné dr. Sejtes Györgyi
...

Sheet 4T
A1: Tanári szakképzettség birtokában újabb (más szakos) tanári oklevelet adó tanárképzés (4 félév, 120 kredit)
A4: KÉPZÉS kódja, neve: | B4: MTKBMAG_4T | C4: =VLOOKUP($B$4,[2]Segédlap!A:B,2,0) -> magyar nyelv és irodalom szakos tanár | H4: TAGOZAT: | I4: Mindkettőt megadom egy táblázatban
A6: MÉRFÖLDKŐ (önálló csoportosító sor) KÓDJA | B6: TÁRGYCSOPORT KÓDJA | C6: TÁRGYKÓD | D6: MK/TCS/tárgy NEVE/CÍME | E6: TÁRGY TÍPUSA | F6: TÁRGY-KÖVETELMÉNY | G6: FELVÉTEL TÍPUSA | H6: ÓRASZÁM | J6: FÉLÉV ÉS KREDIT | N6: AJÁNLOTT FÉLÉV | O6: KREDIT-SZÁM | P6: TÁRGY(CSOPORT)-FELELŐS Neptun kódja | Q6: TÁRGY(CSOPORT)-FELELŐS neve | R6: VÉGLEGES IDŐSZAK (TELJESÍTÉS) | S6: VÉGLEGES IDŐSZAK (FELVÉTEL) | T6: ELŐZETES VIZSGAFELTÉTEL
H7: heti | I7: féléves | J7: 1. | K7: 2. | L7: 3. | M7: 4.
A8: MK-KOT | D8: Kötelező szakmai tárgyak | E8: nincs megadva | F8: nincs megadva | G8: kötelező | O8: 96
A9: Nyeltudományi alapozó tárgyak (5 kredit) | C9: RK4T-MAG-KOT01 | D9: Bevezetés a nyelvtudományba | E9: előadás | F9: kollokvium | G9: kötelező | H9: 2 | I9: 9 | J9: 3 | N9: 1 | O9: 3 | P9: BQEUFH | Q9: Németh T. Enikő
C10: RK4T-MAG-KOT02 | D10: Nyelvtudományi proszeminárium | E10: szeminárium | F10: gyakorlati jegy | G10: kötelező | H10: 2 | I10: 9 | J10: 2 | N10: 1 | O10: 2 | P10: WR1BAF | Q10: Sinkovics Balázs
A11: Nyelvtudományi ismeretek (40 kredit) | C11: RK4T-MAG-KOT03 | D11: A magyar nyelv rokonsága | E11: szeminárium | F11: gyakorlati jegy | G11: kötelező | H11: 2 | I11: 9 | J11: 2 | N11: 1 | O11: 2 | P11: PMYQE3 | Q11: Sipőcz Katalin
C12: RK4T-MAG-KOT04 | D12: Leíró magyar hangtan szeminárium | E12: szeminárium | F12: gyakorlati jegy | G12: kötelező | H12: 2 | I12: 9 | J12: 2 | N12: 1 | O12: 2 | P12: WR1BAF | Q12: Sinkovics Balázs
C13: RK4T-MAG-KOT05 | D13: Szófajtan és alaktan előadás | E13: előadás | F13: kollokvium | G13: kötelező | H13: 2 | I13: 9 | K13: 3 | N13: 2 | O13: 3 | P13: HEQ6YF | Q13: Hoffmann Ildikó
C14: RK4T-MAG-KOT06 | D14: Szófajtan és alaktan szeminárium | E14: szeminárium | F14: gyakorlati jegy | G14: kötelező | H14: 2 | I14: 9 | K14: 2 | N14: 2 | O14: 2 | P14: HEQ6YF | Q14: Hoffmann Ildikó
C15: RK4T-MAG-KOT07 | D15: Mondattan előadás | E15: előadás | F15: kollokvium | G15: kötelező | H15: 2 | I15: 9 | J15: 2 | N15: 1 | O15: 2 | P15: HEQ6YF | Q15: Hoffmann Ildikó
C16: RK4T-MAG-KOT08 | D16: Mondattan szeminárium | E16: szeminárium | F16: gyakorlati jegy | G16: kötelező | H16: 2 | I16: 9 | J16: 3 | N16: 1 | O16: 3 | P16: HEQ6YF | Q16: Hoffmann Ildikó
C17: RK4T-MAG-KOT09 | D17: Stílus és jelentés | E17: előadás | F17: kollokvium | G17: kötelező | H17: 2 | I17: 9 | L17: 2 | N17: 3 | O17: 2 | P17: GHO3PX | Q17: Schirm Anita
C18: RK4T-MAG-KOT10 | D18: Szövegtani ismeretek | E18: előadás | F18: kollokvium | G18: kötelező | H18: 2 | I18: 9 | K18: 2 | N18: 2 | O18: 2 | P18: WR1BAF | Q18: Zsigriné dr. Sejtes Györgyi
C19: RK4T-MAG-KOT11 | D19: Szövegelemzés, szövegalkotás | E19: szeminárium | F19: gyakorlati jegy | G19: kötelező | H19: 2 | I19: 9 | L19: 2 | N19: 3 | O19: 2 | P19: WR1BAF | Q19: Zsigriné dr. Sejtes Györgyi
C20: RK4T-MAG-KOT12 | D20: Pragmatikai ismeretek és kommunikációs stratégiák | E20: előadás | F20: kollokvium | G20: kötelező | H20: 2 | I20: 9 | L20: 3 | N20: 3 | O20: 3 | P20: BQEUFH | Q20: Németh T. Enikő
C21: RK4T-MAG-KOT13 | D21: Kommunikáció szóban és írásban | E21: szeminárium | F21: gyakorlati jegy | G21: kötelező | H21: 2 | I21: 9 | L21: 2 | N21: 3 | O21: 2 | P21: WR1BAF | Q21: Sinkovics Balázs
C22: RK4T-MAG-KOT14 | D22: Nyelv és társadalom | E22: előadás | F22: kollokvium | G22: kötelező | H22: 2 | I22: 9 | K22: 3 | N22: 2 | O22: 3 | P22: EMQWVX | Q22: Németh Miklós
C23: RK4T-MAG-KOT15 | D23: Nyelvi jogok, nyelvi diszkrimináció, nyelvi tervezés | E23: előadás | F23: kollokvium | G23: kötelező | H23: 2 | I23: 9 | L23: 2 | N23: 3 | O23: 2 | P23: EMQWVX | Q23: Németh Miklós
C24: RK4T-MAG-KOT16 | D24: Nyelvtörténet előadás | E24: előadás | F24: kollokvium | G24: kötelező | H24: 2 | I24: 9 | L24: 3 | N24: 3 | O24: 3 | P24: OUAWUI | Q24: Forgács Tamás
C25: RK4T-MAG-KOT17 | D25: A magyar nyelv történeti változásai az egyes szinteken | E25: szeminárium | F25: gyakorlati jegy | G25: kötelező | H25: 2 | I25: 9 | M25: 3 | N25: 4 | O25: 3 | P25: OUAWUI | Q25: Forgács Tamás
C26: RK4T-MAG-KOT18 | D26: A nyelvleírás fontosabb irányzatai az oktatás gyakorlatában | E26: szeminárium | F26: gyakorlati jegy | G26: kötelező | H26: 2 | I26: 9 | M26: 2 | N26: 4 | O26: 2 | P26: GHO3PX | Q26: Schirm Anita
C27: RK4T-MAG-KOT19 | D27: Lexikológia, lexikográfia és frazeológia | E27: szeminárium | F27: gyakorlati jegy | G27: kötelező | H27: 2 | I27: 9 | M27: 2 | N27: 4 | O27: 2 | P27: OUAWUI | Q27: Forgács Tamás
A28: Irodalomtudományi alapozó ismeretek (5 kredit) | C28: RK4T-MAG-KOT20 | D28: Az irodalomtudomány alapjai | E28: előadás | F28: kollokvium | G28: kötelező | H28: 2 | I28: 9 | J28: 3 | N28: 1 | O28: 3 | P28: KFAICJ | Q28: Hansági Ágnes
C29: RK4T-MAG-KOT21 | D29: Az irodalomtudományi ismeretszerzés alapjai (proszeminárium) | E29: szeminárium | F29: gyakorlati jegy | G29: kötelező | H29: 2 | I29: 9 | J29: 2 | N29: 1 | O29: 2 | P29: SEQOIT | Q29: Latzkovits Miklós
A30: Irodalomtudományi ismeretek (46 kredit) | C30: RK4T-MAG-KOT22 | D30: Irodalomelmélet előadás 1. | E30: előadás | F30: kollokvium | G30: kötelező | H30: 2 | I30: 9 | K30: 3 | N30: 2 | O30: 3 | P30: DQSVVR | Q30: Fogarasi György
C31: RK4T-MAG-KOT23 | D31: Irodalomelmélet előadás 2 | E31: előadás | F31: kollokvium | G31: kötelező | H31: 2 | I31: 9 | M31: 3 | N31: 4 | O31: 3 | P31: DQSVVR | Q31: Fogarasi György
C32: RK4T-MAG-KOT24 | D32: Bevezetés a műelemzésbe | E32: szeminárium | F32: gyakorlati jegy | G32: kötelező | H32: 2 | I32: 9 | J32: 2 | N32: 1 | O32: 2 | P32: KFAICJ | Q32: Hansági Ágnes
C33: RK4T-MAG-KOT25 | D33: Világirodalom előadás 1. | E33: előadás | F33: kollokvium | G33: kötelező | H33: 2 | I33: 9 | K33: 3 | N33: 2 | O33: 3 | P33: BGWKTE | Q33: Kelemen Zoltán
C34: RK4T-MAG-KOT26 | D34: Világirodalom előadás 2. | E34: előadás | F34: kollokvium | G34: kötelező | H34: 2 | I34: 9 | M34: 3 | N34: 4 | O34: 3 | P34: BGWKTE | Q34: Kelemen Zoltán
C35: RK4T-MAG-KOT27 | D35: Világirodalom szeminárium 1. | E35: szeminárium | F35: gyakorlati jegy | G35: kötelező | H35: 2 | I35: 9 | J35: 2 | N35: 1 | O35: 2 | P35: BGWKTE | Q35: Kelemen Zoltán
C36: RK4T-MAG-KOT28 | D36: Világirodalom szeminárium 2. | E36: szeminárium | F36: gyakorlati jegy | G36: kötelező | H36: 2 | I36: 9 | L36: 2 | N36: 3 | O36: 2 | P36: BGWKTE | Q36: Kelemen Zoltán
C37: RK4T-MAG-KOT29 | D37: Régi magyar irodalom előadás | E37: előadás | F37: kollokvium | G37: kötelező | H37: 2 | I37: 9 | J37: 3 | N37: 1 | O37: 3 | P37: SEQOIT | Q37: Latzkovits Miklós
C38: RK4T-MAG-KOT30 | D38: Régi magyar irodalom szeminárium | E38: szeminárium | F38: gyakorlati jegy | G38: kötelező | H38: 2 | I38: 9 | K38: 2 | N38: 2 | O38: 2 | P38: SEQOIT | Q38: Latzkovits Miklós
C39: RK4T-MAG-KOT31 | D39: Klasszikus magyar irodalom előadás | E39: előadás | F39: kollokvium | G39: kötelező | H39: 2 | I39: 9 | J39: 3 | N39: 1 | O39: 3 | P39: J4XSEZ | Q39: Hász-Fehér Katalin
C40: RK4T-MAG-KOT32 | D40: Klasszikus magyar irodalom szeminárium | E40: szeminárium | F40: gyakorlati jegy | G40: kötelező | H40: 2 | I40: 9 | K40: 2 | N40: 2 | O40: 2 | P40: KFAICJ | Q40: Hansági Ágnes
C41: RK4T-MAG-KOT33 | D41: Modern magyar irodalom előadás | E41: előadás | F41: kollokvium | G41: kötelező | H41: 2 | I41: 9 | L41: 3 | N41: 3 | O41: 3 | P41: SPNCNW | Q41: Szilágyi Zsófia
C42: RK4T-MAG-KOT34 | D42: Modern magyar irodalom szeminárium | E42: szeminárium | F42: gyakorlati jegy | G42: kötelező | H42: 2 | I42: 9 | M42: 2 | N42: 4 | O42: 2 | P42: SPNCNW | Q42: Szilágyi Zsófia
C43: RK4T-MAG-KOT35 | D43: Kortárs magyar irodalom szeminárium | E43: szeminárium | F43: gyakorlati jegy | G43: kötelező | H43: 2 | I43: 9 | L43: 3 | N43: 3 | O43: 3 | P43: FODBN0 | Q43: Virág Zoltán
...

Sheet 4P
A1: Újabb oklevelet adó tanárképzés tanítói szakképzettséggel (4 félév, 120 kredit)
A3: KÉPZÉS kódja, neve: | B3: MTKBMAG_4P | C3: =VLOOKUP($B$3,[2]Segédlap!A:B,2,0) -> magyar nyelv és irodalom szakos tanár | H3: TAGOZAT: | I3: Mindkettőt megadom egy táblázatban
A5: MÉRFÖLDKŐ (önálló csoportosító sor) KÓDJA | B5: TÁRGYCSOPORT KÓDJA | C5: TÁRGYKÓD | D5: MK/TCS/tárgy NEVE/CÍME | E5: TÁRGY TÍPUSA | F5: TÁRGY-KÖVETELMÉNY | G5: FELVÉTEL TÍPUSA | H5: ÓRASZÁM | J5: FÉLÉV ÉS KREDIT | N5: KREDIT-SZÁM | O5: TÁRGY(CSOPORT)-FELELŐS Neptun kódja | P5: TÁRGY(CSOPORT)-FELELŐS neve | Q5: VÉGLEGES IDŐSZAK (TELJESÍTÉS) | R5: VÉGLEGES IDŐSZAK (FELVÉTEL) | S5: ELŐZETES VIZSGAFELTÉTEL
H6: heti | I6: féléves | J6: 1. | K6: 2. | L6: 3. | M6: 4.
A7: MK-KOT | D7: Kötelező szakmai tárgyak | E7: nincs megadva | F7: nincs megadva | G7: kötelező | N7: 84
A8: Nyelvészeti alapozó ismeretek (5 kredit) | C8: RK4P-MAG-KOT01 | D8: Bevezetés a nyelvtudományba | E8: előadás | F8: kollokvium | G8: kötelező | H8: 2 | I8: 9 | J8: 3 | N8: 3 | O8: BQEUFH | P8: Németh T. Enikő
C9: RK4P-MAG-KOT02 | D9: Nyelvtudományi proszeminárium | E9: szeminárium | F9: gyakorlati jegy | G9: kötelező | H9: 2 | I9: 9 | J9: 2 | N9: 2 | O9: WR1BAF | P9: Sinkovics Balázs
A10: Nyelvtudományi ismeretek (34 kredit) | C10: RK4P-MAG-KOT03 | D10: A magyar nyelv rokonsága | E10: szeminárium | F10: gyakorlati jegy | G10: kötelező | H10: 2 | I10: 9 | J10: 2 | N10: 2 | O10: PMYQE3 | P10: Sipőcz Katalin
C11: RK4P-MAG-KOT04 | D11: Leíró magyar hangtan szeminárium | E11: szeminárium | F11: gyakorlati jegy | G11: kötelező | H11: 2 | I11: 9 | J11: 2 | N11: 2 | O11: WR1BAF | P11: Sinkovics Balázs
C12: RK4P-MAG-KOT05 | D12: Szófajtan és alaktan előadás | E12: előadás | F12: kollokvium | G12: kötelező | H12: 2 | I12: 9 | K12: 3 | N12: 3 | O12: HEQ6YF | P12: Hoffmann Ildikó
C13: RK4P-MAG-KOT06 | D13: Mondattan szeminárium | E13: szeminárium | F13: gyakorlati jegy | G13: kötelező | H13: 2 | I13: 9 | J13: 2 | N13: 2 | O13: HEQ6YF | P13: Hoffmann Ildikó
C14: RK4P-MAG-KOT07 | D14: Stílus és jelentés | E14: előadás | F14: kollokvium | G14: kötelező | H14: 2 | I14: 9 | L14: 3 | N14: 3 | O14: GHO3PX | P14: Schirm Anita
C15: RK4P-MAG-KOT08 | D15: Szövegtani ismeretek | E15: előadás | F15: kollokvium | G15: kötelező | H15: 2 | I15: 9 | K15: 2 | N15: 2 | O15: WR1BAF | P15: Zsigriné dr. Sejtes Györgyi
C16: RK4P-MAG-KOT09 | D16: Szövegelemzés, szövegalkotás | E16: szeminárium | F16: gyakorlati jegy | G16: kötelező | H16: 2 | I16: 9 | L16: 2 | N16: 2 | O16: WR1BAF | P16: Zsigriné dr. Sejtes Györgyi
C17: RK4P-MAG-KOT10 | D17: Pragmatikai ismeretek és kommunikációs stratégiák | E17: előadás | F17: kollokvium | G17: kötelező | H17: 2 | I17: 9 | L17: 3 | N17: 3 | O17: BQEUFH | P17: Németh T. Enikő
C18: RK4P-MAG-KOT11 | D18: Nyelv és társadalom | E18: előadás | F18: kollokvium | G18: kötelező | H18: 2 | I18: 9 | K18: 3 | N18: 3 | O18: EMQWVX | P18: Németh Miklós
C19: RK4P-MAG-KOT12 | D19: Nyelvi jogok, nyelvi diszkrimináció, nyelvi tervezés | E19: előadás | F19: kollokvium | G19: kötelező | H19: 2 | I19: 9 | L19: 2 | N19: 2 | O19: EMQWVX | P19: Németh Miklós
C20: RK4P-MAG-KOT13 | D20: Nyelvtörténet előadás | E20: előadás | F20: kollokvium | G20: kötelező | H20: 2 | I20: 9 | L20: 3 | N20: 3 | O20: OUAWUI | P20: Forgács Tamás
C21: RK4P-MAG-KOT14 | D21: A magyar nyelv történeti változásai az egyes szinteken | E21: szeminárium | F21: gyakorlati jegy | G21: kötelező | H21: 2 | I21: 9 | M21: 3 | N21: 3 | O21: OUAWUI | P21: Forgács Tamás
C22: RK4P-MAG-KOT15 | D22: A nyelvleírás fontosabb irányzatai az oktatás gyakorlatában | E22: szeminárium | F22: gyakorlati jegy | G22: kötelező | H22: 2 | I22: 9 | M22: 2 | N22: 2 | O22: GHO3PX | P22: Schirm Anita
C23: RK4P-MAG-KOT16 | D23: Lexikológia, lexikográfia és frazeológia | E23: szeminárium | F23: gyakorlati jegy | G23: kötelező | H23: 2 | I23: 9 | K23: 2 | N23: 2 | O23: OUAWUI | P23: Forgács Tamás
A24: Irodalomtudományi alapozó ismeretek (5 kredit) | C24: RK4P-MAG-KOT17 | D24: Az irodalomtudomány alapjai | E24: előadás | F24: kollokvium | G24: kötelező | H24: 2 | I24: 9 | J24: 3 | N24: 3 | O24: KFAICJ | P24: Hansági Ágnes
C25: RK4P-MAG-KOT18 | D25: Az irodalomtudományi ismeretszerzés alapjai (proszeminárium) | E25: szeminárium | F25: gyakorlati jegy | G25: kötelező | H25: 2 | I25: 9 | J25: 2 | N25: 2 | O25: SEQOIT | P25: Latzkovits Miklós
A26: Irodalomtudományi ismeretek (40 kredit) | C26: RK4P-MAG-KOT19 | D26: Irodalomelmélet előadás 1. | E26: előadás | F26: kollokvium | G26: kötelező | H26: 2 | I26: 9 | K26: 3 | N26: 3 | O26: DQSVVR | P26: Fogarasi György
C27: RK4P-MAG-KOT20 | D27: Irodalomelmélet előadás 2 | E27: előadás | F27: kollokvium | G27: kötelező | H27: 2 | I27: 9 | M27: 3 | N27: 3 | O27: DQSVVR | P27: Fogarasi György
C28: RK4P-MAG-KOT21 | D28: Bevezetés a műelemzésbe | E28: szeminárium | F28: gyakorlati jegy | G28: kötelező | H28: 2 | I28: 9 | J28: 3 | N28: 3 | O28: KFAICJ | P28: Hansági Ágnes
C29: RK4P-MAG-KOT22 | D29: Világirodalom előadás 1. | E29: előadás | F29: kollokvium | G29: kötelező | H29: 2 | I29: 9 | K29: 3 | N29: 3 | O29: BGWKTE | P29: Kelemen Zoltán
C30: RK4P-MAG-KOT23 | D30: Világirodalom előadás 2. | E30: előadás | F30: kollokvium | G30: kötelező | H30: 2 | I30: 9 | M30: 3 | N30: 3 | O30: BGWKTE | P30: Kelemen Zoltán
C31: RK4P-MAG-KOT24 | D31: Világirodalom szeminárium 1. | E31: szeminárium | F31: gyakorlati jegy | G31: kötelező | H31: 2 | I31: 9 | J31: 2 | N31: 2 | O31: BGWKTE | P31: Kelemen Zoltán
C32: RK4P-MAG-KOT25 | D32: Világirodalom szeminárium 2. | E32: szeminárium | F32: gyakorlati jegy | G32: kötelező | H32: 2 | I32: 9 | L32: 2 | N32: 3 | O32: BGWKTE | P32: Kelemen Zoltán
C33: RK4P-MAG-KOT26 | D33: Régi magyar irodalom előadás | E33: előadás | F33: kollokvium | G33: kötelező | H33: 2 | I33: 9 | J33: 3 | N33: 3 | O33: SEQOIT | P33: Latzkovits Miklós
C34: RK4P-MAG-KOT27 | D34: Régi magyar irodalom szeminárium | E34: szeminárium | F34: gyakorlati jegy | G34: kötelező | H34: 2 | I34: 9 | K34: 2 | N34: 2 | O34: SEQOIT | P34: Latzkovits Miklós
C35: RK4P-MAG-KOT28 | D35: Klasszikus magyar irodalom előadás | E35: előadás | F35: kollokvium | G35: kötelező | H35: 2 | I35: 9 | J35: 3 | N35: 3 | O35: J4XSEZ | P35: Hász-Fehér Katalin
C36: RK4P-MAG-KOT29 | D36: Klasszikus magyar irodalom szeminárium | E36: szeminárium | F36: gyakorlati jegy | G36: kötelező | H36: 2 | I36: 9 | K36: 2 | N36: 2 | O36: KFAICJ | P36: Hansági Ágnes
C37: RK4P-MAG-KOT30 | D37: Modern magyar irodalom előadás | E37: előadás | F37: kollokvium | G37: kötelező | H37: 2 | I37: 9 | L37: 3 | N37: 3 | O37: SPNCNW | P37: Szilágyi Zsófia
C38: RK4P-MAG-KOT31 | D38: Modern magyar irodalom szeminárium | E38: szeminárium | F38: gyakorlati jegy | G38: kötelező | H38: 2 | I38: 9 | M38: 2 | N38: 2 | O38: SPNCNW | P38: Szilágyi Zsófia
C39: RK4P-MAG-KOT32 | D39: Műelemzések szeminárium 1. | E39: szeminárium | F39: gyakorlati jegy | G39: kötelező | H39: 2 | I39: 9 | K39: 3 | N39: 3 | O39: RVJ3CT | P39: Tóth Ákos
C40: RK4P-MAG-KOT33 | D40: Műelemzések szeminárium 2. | E40: szeminárium | F40: gyakorlati jegy | G40: kötelező | H40: 2 | I40: 9 | L40: 2 | N40: 2 | O40: OAONGX | P40: Szabó Gábor
A41: MK-SZM | D41: Szakmódszertan | E41: nincs megadva | F41: nincs megadva | G41: kötelező | N41: 8
C42: RK4P-MAG-SZM1 | D42: Az irodalomtanítás elméleti alapjai | E42: szeminárium | F42: gyakorlati jegy | G42: kötelező | H42: 2 | I42: 9 | J42: 2 | N42: 2 | O42: WR1BAF | P42: Zsigriné dr. Sejtes Györgyi
...

Sheet 4B
A1: Alapszakos képzettség birtokában egyszakos részidős képzés (4 félév, 120 kredit)
A3: KÉPZÉS kódja, neve: | B3: MTKBMAG_4B | C3: =VLOOKUP($B$3,[2]Segédlap!A:B,2,0) -> magyar nyelv és irodalom szakos tanár | H3: TAGOZAT: | I3: Mindkettőt megadom egy táblázatban
A5: MÉRFÖLDKŐ (önálló csoportosító sor) KÓDJA | B5: TÁRGYCSOPORT KÓDJA | C5: TÁRGYKÓD | D5: MK/TCS/tárgy NEVE/CÍME | E5: TÁRGY TÍPUSA | F5: TÁRGY-KÖVETELMÉNY | G5: FELVÉTEL TÍPUSA | H5: ÓRASZÁM | J5: FÉLÉV ÉS KREDIT | N5: KREDIT-SZÁM | O5: TÁRGY(CSOPORT)-FELELŐS Neptun kódja | P5: TÁRGY(CSOPORT)-FELELŐS neve | Q5: VÉGLEGES IDŐSZAK (TELJESÍTÉS) | R5: VÉGLEGES IDŐSZAK (FELVÉTEL) | S5: ELŐZETES VIZSGAFELTÉTEL
H6: heti | I6: féléves | J6: 1. | K6: 2. | L6: 3. | M6: 4.
A7: MK-KOT | D7: Kötelező szakmai tárgyak | E7: nincs megadva | F7: nincs megadva | G7: kötelező | N7: 34
C8: RK4B-MAG-KOT01 | D8: Szófajtan és alaktan előadás | E8: előadás | F8: kollokvium | G8: kötelező | H8: 2 | I8: 9 | K8: 3 | N8: 2 | O8: HEQ6YF | P8: Hoffmann Ildikó
C9: RK4B-MAG-KOT02 | D9: Stílus és jelentés | E9: előadás | F9: kollokvium | G9: kötelező | H9: 2 | I9: 9 | J9: 3 | N9: 3 | O9: GHO3PX | P9: Schirm Anita
C10: RK4B-MAG-KOT03 | D10: Szövegelemzés, szövegalkotás | E10: szeminárium | F10: gyakorlati jegy | G10: kötelező | H10: 2 | I10: 9 | J10: 2 | N10: 2 | O10: WR1BAF | P10: Zsigriné dr. Sejtes Györgyi
C11: RK4B-MAG-KOT04 | D11: Pragmatikai ismeretek és kommunikációs stratégiák | E11: előadás | F11: kollokvium | G11: kötelező | H11: 2 | I11: 9 | L11: 3 | N11: 3 | O11: BQEUFH | P11: Németh T. Enikő
C12: RK4B-MAG-KOT05 | D12: A magyar nyelv történeti változásai az egyes szinteken | E12: szeminárium | F12: gyakorlati jegy | G12: kötelező | H12: 2 | I12: 9 | K12: 2 | N12: 2 | O12: OUAWUI | P12: Forgács Tamás
C13: RK4B-MAG-KOT06 | D13: A nyelvleírás fontosabb irányzatai az oktatás gyakorlatában | E13: szeminárium | F13: gyakorlati jegy | G13: kötelező | H13: 2 | I13: 9 | K13: 2 | N13: 2 | O13: GHO3PX | P13: Schirm Anita
C14: RK4B-MAG-KOT07 | D14: Lexikológia, lexikográfia és frazeológia | E14: szeminárium | F14: gyakorlati jegy | G14: kötelező | H14: 2 | I14: 9 | K14: 2 | N14: 2 | O14: OUAWUI | P14: Forgács Tamás
C15: RK4B-MAG-KOT08 | D15: Irodalomelmélet szeminárium | E15: szeminárium | F15: gyakorlati jegy | G15: kötelező | H15: 2 | I15: 9 | J15: 3 | N15: 3 | O15: DQSVVR | P15: Fogarasi György
C16: RK4B-MAG-KOT09 | D16: Irodalomelmélet előadás | E16: előadás | F16: kollokvium | G16: kötelező | H16: 2 | I16: 9 | J16: 3 | N16: 3 | O16: DQSVVR | P16: Fogarasi György
C17: RK4B-MAG-KOT10 | D17: Populáris irodalom | E17: előadás | F17: kollokvium | G17: kötelező | H17: 2 | I17: 9 | L17: 3 | N17: 3 | O17: DQVKHN | P17: Kovács Krisztina
C18: RK4B-MAG-KOT11 | D18: Gyermek- és ifjúsági irodalom | E18: szeminárium | F18: gyakorlati jegy | G18: kötelező | H18: 2 | I18: 9 | L18: 2 | N18: 2 | O18: KFAICJ | P18: Hansági Ágnes
C19: RK4B-MAG-KOT12 | D19: Műelemzések szeminárium 1. | E19: szeminárium | F19: gyakorlati jegy | G19: kötelező | H19: 2 | I19: 9 | J19: 2 | N19: 2 | O19: RVJ3CT | P19: Tóth Ákos
C20: RK4B-MAG-KOT13 | D20: Műelemzések szeminárium 2. | E20: szeminárium | F20: gyakorlati jegy | G20: kötelező | H20: 2 | I20: 9 | K20: 2 | N20: 2 | O20: OAONGX | P20: Szabó Gábor
C21: RK4B-MAG-KOT14 | D21: Műelemzések szeminárium 3. | E21: szeminárium | F21: gyakorlati jegy | G21: kötelező | H21: 2 | I21: 9 | L21: 2 | N21: 2 | O21: GPZTBK | P21: Gere Zsolt
A22: MK-SZM | D22: Szakmódszertan | E22: nincs megadva | F22: nincs megadva | G22: kötelező | N22: 16
C23: RK4B-MAG-SZM1 | D23: Az irodalomtanítás elméleti alapjai | E23: szeminárium | F23: gyakorlati jegy | G23: kötelező | H23: 2 | I23: 9 | J23: 2 | N23: 2 | O23: WR1BAF | P23: Zsigriné dr. Sejtes Györgyi
C24: RK4B-MAG-SZM2 | D24: Az anyanyelvtanítás elméleti alapjai | E24: szeminárium | F24: gyakorlati jegy | G24: kötelező | H24: 2 | I24: 9 | J24: 2 | N24: 2 | O24: WR1BAF | P24: Zsigriné dr. Sejtes Györgyi
C25: RK4B-MAG-SZM3 | D25: Az anyanyelvtanítás gyakorlata | E25: szeminárium | F25: gyakorlati jegy | G25: kötelező | H25: 2 | I25: 9 | K25: 2 | N25: 2 | O25: WR1BAF | P25: Zsigriné dr. Sejtes Györgyi
C26: RK4B-MAG-SZM4 | D26: Az irodalomtanítás gyakorlata | E26: szeminárium | F26: gyakorlati jegy | G26: kötelező | H26: 2 | I26: 9 | K26: 2 | N26: 2 | O26: WR1BAF | P26: Zsigriné dr. Sejtes Györgyi
C27: RK4B-MAG-SZM5 | D27: Az irodalmi műértelmezés gyakorlata | E27: szeminárium | F27: gyakorlati jegy | G27: kötelező | H27: 2 | I27: 9 | L27: 2 | N27: 2 | O27: WR1BAF | P27: Zsigriné dr. Sejtes Györgyi
C28: RK4B-MAG-SZM6 | D28: Szövegtan és tanulás | E28: szeminárium | F28: gyakorlati jegy | G28: kötelező | H28: 2 | I28: 9 | L28: 2 | N28: 2 | O28: WR1BAF | P28: Zsigriné dr. Sejtes Györgyi
C29: RK4B-MAG-SZM7 | D29: Magyar nyelv és irodalom tanítása a digitális kollaborációs térben | E29: szeminárium | F29: gyakorlati jegy | G29: kötelező | H29: 2 | I29: 9 | M29: 2 | N29: 2 | O29: WR1BAF | P29: Zsigriné dr. Sejtes Györgyi
C30: RK4B-MAG-SZM8 | D30: A szaktárgyi tanítási gyakorlatot kísérő szeminárium | E30: szeminárium | F30: gyakorlati jegy | G30: kötelező | H30: 2 | I30: 9 | M30: 2 | N30: 2 | O30: WR1BAF | P30: Zsigriné dr. Sejtes Györgyi
A31: MK-TGY | D31: Szakterületi tanítási gyakorlat | E31: nincs megadva | F31: nincs megadva | G31: kötelező | J31: 6 | K31: 2 | L31: 2 | M31: 2 | N31: 12
A32: MK-SZV | D32: Szabadon választható tárgyak* | E32: nincs megadva | F32: nincs megadva | G32: kötelező | K32: 4 | L32: 2 | N32: 6
C33: RK4B-MAG-SZV01 | D33: Finn nyelv | E33: szeminárium | F33: gyakorlati jegy | G33: szabadon választható | H33: 2 | I33: 9 | K33: 2 | N33: 2 | O33: PMYQE3 | P33: Sipőcz Katalin
C34: RK4B-MAG-SZV02 | D34: Társalgáselemzés | E34: szeminárium | F34: gyakorlati jegy | G34: szabadon választható | H34: 2 | I34: 9 | K34: 2 | N34: 2 | O34: M9QMTA | P34: Németh Zsuzsanna
C35: RK4B-MAG-SZV03 | D35: Mesterséges intelligencia | E35: szeminárium | F35: gyakorlati jegy | G35: szabadon választható | H35: 2 | I35: 9 | K35: 2 | N35: 2 | O35: F7VBEE | P35: Szécsényi Tibor
C36: RK4B-MAG-SZV04 | D36: A nyelvleírás alapjai | E36: előadás | F36: kollokvium | G36: szabadon választható | H36: 2 | I36: 9 | L36: 2 | N36: 2 | O36: M9QMTA | P36: Németh Zsuzsanna
C37: RK4B-MAG-SZV05 | D37: Számítógépes nyelvészet | E37: szeminárium | F37: gyakorlati jegy | G37: szabadon választható | H37: 2 | I37: 9 | L37: 2 | N37: 2 | O37: F7VBEE | P37: Szécsényi Tibor
A38: MK-SZD | D38: Szakdolgozat-készítés | E38: nincs megadva | F38: nincs megadva | G38: kötelező | N38: 4
C39: RK4B-MAG-SZD | D39: Szakdolgozat-készítés | E39: szeminárium | F39: gyakorlati jegy | G39: kötelező | H39: 2 | I39: 9 | M39: 4 | N39: 4 | O39: KFAICJ | P39: Hansági Ágnes
I41: Előírt kredit: | J41: 22 | K41: 22 | L41: 20 | M41: 8 | N41: 72
I42: Számolt kredit: | J42: =SUM(J7:J40) -> 23 | K42: =SUM(K7:K32) -> 21 | L42: =SUM(L7:L32) -> 18 | M42: =SUM(M7:M40) -> 10
I43: Szakmai kr. | J43: =SUM(J8:J21) -> 13 | K43: =SUM(K8:K21) -> 11 | L43: =SUM(L8:L21) -> 10 | N43: =SUM(J43:M43) -> 34

Sheet Segédlap
A1: Szakkód | B1: Szakok | C1: Kredit | E1: TAGOZAT | K1: SZAKOK | M1: TÁRGY TÍPUSA | N1: TÁRGY-KÖVETELMÉNY | O1: FELVÉTEL TÍPUSA
A2: MTKBANG_2B_L_2024 | B2: angol nyelv és kultúra tanára (alapszakos diplomával) | C2: 60 | E2: Nappali | K2: angol nyelv és kultúra szaktanára
A3: MTKBANG_2B_N_2024 | B3: angol nyelv és kultúra tanára (alapszakos diplomával) | C3: 60 | E3: Levelező | K3: angol nyelv és kultúra tanára | M3: Előadás | N3: Kollokvium | O3: Kötelező
A4: MTKBMAG_2B_L_2024 | B4: magyar nyelv és irodalom szakos tanár (alapszakos diplomával) | C4: 60 | K4: dráma- és színházismeret-tanár | M4: Szeminárium | N4: Gyakorlati jegy | O4: Kötelezően választható
A5: MTKBMAG_2B_N_2024 | B5: magyar nyelv és irodalom szakos tanár (alapszakos diplomával) | C5: 60 | K5: etikatanár | M5: Gyakorlat | N5: Minősített aláírás | O5: Szabadon választható
A6: MTKBNEK_2B_L_2024 | B6: német nyelv és kultúra tanára (alapszakos diplomával) | C6: 60 | K6: filozófiatanár | M6: Labor | N6: Alapvizsga
A7: MTKBNEK_2B_N_2024 | B7: német nyelv és kultúra tanára (alapszakos diplomával) | C7: 60 | K7: francia nyelv és kultúra szaktanára | M7: Önálló vizsga | N7: Szigorlat
A8: MTKBTOR_2B_L_2024 | B8: történelemtanár (alapszakos diplomával) | C8: 60 | K8: francia nyelv és kultúra tanára | M8: Nincs megadva | N8: Aláírás
A9: MTKBTOR_2B_N_2024 | B9: történelemtanár (alapszakos diplomával) | C9: 60 | K9: latin nyelv és kultúra szaktanára | N9: Nincs megadva
A10: MTKBSZE_3B_L_2022 | B10: szerb és nemzetiségi szerb nyelv és kultúra tanára (alapszakos diplomával) | C10: 90 | K10: latin nyelv és kultúra tanára
A11: MTKBSZE_3B_N_2022 | B11: szerb és nemzetiségi szerb nyelv és kultúra tanára (alapszakos diplomával) | C11: 90
A12: MTKBANG_3T_L_2024 | B12: angol nyelv és kultúra tanára (más tanári) | C12: 90
A13: MTKBANG_3T_N_2024 | B13: angol nyelv és kultúra tanára (más tanári) | C13: 90 | K13: magyar nyelv és irodalom szakos szaktanár
A14: MTKBMAG_3T_L_2024 | B14: magyar nyelv és irodalom szakos tanár (más tanári) | C14: 90 | K14: magyar nyelv és irodalom szakos tanár
A15: MTKBMAG_3T_N_2024 | B15: magyar nyelv és irodalom szakos tanár (más tanári) | C15: 90 | K15: mozgóképkultúra és médiaismeret-tanár
A16: MTKBNEK_3T_L_2024 | B16: német nyelv és kultúra tanára (más tanári) | C16: 90 | K16: német nyelv és kultúra szaktanára
A17: MTKBNEK_3T_N_2024 | B17: német nyelv és kultúra tanára (más tanári) | C17: 90 | K17: német nyelv és kultúra tanára
A18: MTKBTOR_3T_L_2024 | B18: történelemtanár (más tanári) | C18: 90 | K18: olasz nyelv és kultúra szaktanára
A19: MTKBTOR_3T_N_2024 | B19: történelemtanár (más tanári) | C19: 90 | K19: olasz nyelv és kultúra tanára
A20: MTKBANG_3P_L_2024 | B20: angol nyelv és kultúra tanára (tanítóknak) | C20: 90 | K20: orosz nyelv és kultúra szaktanára
A21: MTKBANG_3P_N_2024 | B21: angol nyelv és kultúra tanára (tanítóknak) | C21: 90 | K21: orosz nyelv és kultúra tanára
A22: MTKBMAG_3P_L_2024 | B22: magyar nyelv és irodalom szakos tanár (tanítóknak) | C22: 90 | K22: pedagógiatanár
A23: MTKBMAG_3P_N_2024 | B23: magyar nyelv és irodalom szakos tanár (tanítóknak) | C23: 90 | K23: spanyol nyelv és kultúra szaktanára
A24: MTKBNEK_3P_L_2024 | B24: német nyelv és kultúra tanára (tanítóknak) | C24: 90 | K24: spanyol nyelv és kultúra tanára
... A27: MTKBTOR_3P_N_2024 | B27: történelemtanár (tanítóknak) | C27: 90 | K27: történelem szaktanár
K28: történelemtanár
